BEGIN:VCALENDAR
VERSION:2.0
BEGIN:VTIMEZONE
TZID:UTC-4
END:VTIMEZONE
BEGIN:VEVENT
UID:uid1754@http://dev.pma.sserver.ca
DTSTAMP;TZID=UTC-4:20181025T113658
DTSTART;TZID=UTC-4:20190221T220000
DTEND;TZID=UTC-4:20190222T000000
SUMMARY: PMA Western: Storybook Gardens Family Skate
LOCATION:Storybook Gardens
DESCRIPTION:An event for the whole family!
Thursday, February 21, 2019
The PMA is pleased to host a FREE Family Skate for all members and their families at Storybook Gardens on Thursday, February 21, from 6:00 – 8:00 p.m.

Join us and enjoy a skate on Storybook Gardens’ beautiful, refrigerated 250 metre ice-skating trail.

Skate rentals will be available at a cost of $6.50 per pair. Beavertail Concession will be open and serving popular Bevertail menu items (including pastries and hot chocolate) at an additional cost. There is a heated change room close to the trail equipped with restrooms. Parking is FREE!




 	Children age 5 years and under must wear a CSA approved helmet while skating. A full cage is recommended but not mandatory. (Storybook does allow bike helmets)
 	No one is permitted on the ice who is not wearing skates.
 	Sturdy, four-wheeled strollers are permitted on the ice under the control of a responsible adult who is a competent skater. The wheels of the stroller must be checked for grit or sand prior to moving on to the ice surface. Children in strollers do not require a helmet.
 	Chairs or the Collapsible “Umbrella” style strollers are not permitted
 	Wheelchairs are permitted on the ice. The wheels must be checked for grit or sand prior to moving on to the ice surface.
 	Use of a baby carrier or carrying young children while on the ice is not permitted
 	No food or beverages are allowed on the ice surface
 	No smoking. Storybook Gardens is a smoke free environment


Click on More Content below, to see registration Link.
[protectedSection title="Family Skate Registration"]
Register Now
[/protectedSection] 
PRIORITY:3
END:VEVENT
END:VCALENDAR