BEGIN:VCALENDAR
VERSION:2.0
BEGIN:VTIMEZONE
TZID:UTC-4
END:VTIMEZONE
BEGIN:VEVENT
UID:uid1753@http://dev.pma.sserver.ca
DTSTAMP;TZID=UTC-4:20181025T113146
DTSTART;TZID=UTC-4:20190129T160000
DTEND;TZID=UTC-4:20190129T170000
SUMMARY: PMA Western: PMA Financial Workshop
LOCATION:
DESCRIPTION:&nbsp;
Tuesday, January 29, 2019
&nbsp;

Discussion will include highlights around Benefits (including PER and Flex Credits), PMA Financial Policies and Procedures, and Financial Planning.

A light lunch will be provided. Please email Rebecca at rsancton@uwo.ca with any dietary restrictions.

This event is open to PMA members only. Please click on "More Content" below to register for this event.

[protectedSection]

Register Now

[/protectedSection]
 
PRIORITY:3
END:VEVENT
END:VCALENDAR