BEGIN:VCALENDAR
VERSION:2.0
BEGIN:VTIMEZONE
TZID:UTC-4
END:VTIMEZONE
BEGIN:VEVENT
UID:uid1755@http://dev.pma.sserver.ca
DTSTAMP;TZID=UTC-4:20181025T113925
DTSTART;TZID=UTC-4:20190224T173000
DTEND;TZID=UTC-4:20190224T200000
SUMMARY: PMA Western: PMA Family Movie
LOCATION:
DESCRIPTION:A family friendly movie at Western Film!
This event has been postponed - check beck for updates!

 
PRIORITY:3
END:VEVENT
END:VCALENDAR