BEGIN:VCALENDAR
VERSION:2.0
BEGIN:VTIMEZONE
TZID:UTC-4
END:VTIMEZONE
BEGIN:VEVENT
UID:uid2511@http://dev.pma.sserver.ca
DTSTAMP;TZID=UTC-4:20200929T133102
DTSTART;TZID=UTC-4:20201003T040000
DTEND;TZID=UTC-4:20201029T035900
SUMMARY: PMA Western: PMA Fall Decorating Contest
LOCATION:Online
DESCRIPTION:


&nbsp;

[protectedSection title=""]

‘Tis the season for changing colours, cozy sweaters and pumpkins galore – and we’re celebrating with a fall decorating contest!

Decorate any space with a fall or Halloween theme, from your front porch to your home or campus workstation. Get your whole family involved for a ghoulishly good time!

Need inspiration? Start planning with these family-friendly crafts and decorating ideas
Favourite Fall Decorating Ideas (HGTV)
Fall Crafts for Kids (Easy, Peasy and Fun)
Halloween Decorations (Pinterest)
Submit a photo of your decorated space online for a chance to win one of three Amazon gift cards (one entry per member).
Enter Contest and View Gallery
Vote on your favourite festive space from Monday, October 26 at 9:00 a.m. to Wednesday, October 28 at 11:59 p.m. Winners will be announced on Friday, October 30.

&nbsp;

[/protectedSection]

&nbsp;

&nbsp;

&nbsp;


 
PRIORITY:3
END:VEVENT
END:VCALENDAR