BEGIN:VCALENDAR
VERSION:2.0
BEGIN:VTIMEZONE
TZID:UTC-4
END:VTIMEZONE
BEGIN:VEVENT
UID:uid2529@http://dev.pma.sserver.ca
DTSTAMP;TZID=UTC-4:20201020T153558
DTSTART;TZID=UTC-4:20201028T160000
DTEND;TZID=UTC-4:20201028T170000
SUMMARY: PMA Western: PMA BIPOC Networking Event
LOCATION:
DESCRIPTION:This event will provide an opportunity for self-identifying Black, Indigenous, and Persons of Colour to connect across PMA.
Attendees will have a chance to meet others across functional areas of PMA and Western, while also engaging in a discussion on what they would like to see from a BIPOC Network to help determine next steps.
A zoom link will be emailed to all registrants prior to the event, or you can also find the log in information on the Online Event Page. You will have to log in to Eventbrite to see the link. 
Please contact pmaoffice@uwo.ca if you have any questions. 
[protectedSection title="Register Now"]

[/protectedSection] 
PRIORITY:3
END:VEVENT
END:VCALENDAR