BEGIN:VCALENDAR
VERSION:2.0
BEGIN:VTIMEZONE
TZID:UTC-4
END:VTIMEZONE
BEGIN:VEVENT
UID:uid1752@http://dev.pma.sserver.ca
DTSTAMP;TZID=UTC-4:20181025T112353
DTSTART;TZID=UTC-4:20181205T153000
DTEND;TZID=UTC-4:20181205T163000
SUMMARY: PMA Western: Mingle and Jingle
LOCATION:Great Hall
DESCRIPTION:PMA's Annual Holiday Lunch
Wednesday, December 5, 2018
&nbsp;

&nbsp;

Please join us to enjoy festive food and conversation with your PMA colleagues.

In order to accommodate more members this year, we are staggering arrival times. The buffet will be replenished throughout the event, so don't worry, there will be more than enough food! Please select your preferred arrival time when registering for your ticket.

&nbsp;

This event is for dues paying PMA members only. Please have your Eventbrite ticket ready to be scanned on your mobile device, or as a print out.

&nbsp;
In collaboration with clothing works, the pma will be hosting a clothing drive. Please bring your gently used clothing donations to the mingle &amp; Jingle on December 5.
&nbsp;

Register Now


&nbsp; 
PRIORITY:3
END:VEVENT
END:VCALENDAR